BEGIN:VCALENDAR
VERSION:2.0
PRODID:-//Freiheitskalender - ECPv6.15.20//NONSGML v1.0//EN
CALSCALE:GREGORIAN
METHOD:PUBLISH
X-ORIGINAL-URL:https://freiheitskalender.ch
X-WR-CALDESC:Veranstaltungen für Freiheitskalender
REFRESH-INTERVAL;VALUE=DURATION:PT1H
X-Robots-Tag:noindex
X-PUBLISHED-TTL:PT1H
BEGIN:VTIMEZONE
TZID:Europe/Zurich
BEGIN:DAYLIGHT
TZOFFSETFROM:+0100
TZOFFSETTO:+0200
TZNAME:CEST
DTSTART:20250330T010000
END:DAYLIGHT
BEGIN:STANDARD
TZOFFSETFROM:+0200
TZOFFSETTO:+0100
TZNAME:CET
DTSTART:20251026T010000
END:STANDARD
BEGIN:DAYLIGHT
TZOFFSETFROM:+0100
TZOFFSETTO:+0200
TZNAME:CEST
DTSTART:20260329T010000
END:DAYLIGHT
BEGIN:STANDARD
TZOFFSETFROM:+0200
TZOFFSETTO:+0100
TZNAME:CET
DTSTART:20261025T010000
END:STANDARD
BEGIN:DAYLIGHT
TZOFFSETFROM:+0100
TZOFFSETTO:+0200
TZNAME:CEST
DTSTART:20270328T010000
END:DAYLIGHT
BEGIN:STANDARD
TZOFFSETFROM:+0200
TZOFFSETTO:+0100
TZNAME:CET
DTSTART:20271031T010000
END:STANDARD
END:VTIMEZONE
BEGIN:VEVENT
DTSTART;TZID=Europe/Zurich:20260314T130000
DTEND;TZID=Europe/Zurich:20260314T170000
DTSTAMP:20260421T142841
CREATED:20260213T102837Z
LAST-MODIFIED:20260302T062626Z
UID:3445-1773493200-1773507600@freiheitskalender.ch
SUMMARY:Die neue Grundrechtsinitiative Am Gleis Wattwil
DESCRIPTION:Unsere verfassungsmässigen Grundrechte stehen unter Druck. Erfahren Sie aus erster Hand\, warum diese Initiative jetzt nötig ist-und wie Sie mithelfen können. \nEs sprechen Simon Kramer\, Andrea Seaman und Thomas Börlin
URL:https://freiheitskalender.ch/event/die-neue-grundrechtsinitiative-3/
LOCATION:10_St. Gallen (SG)
ATTACH;FMTTYPE=image/png:https://freiheitskalender.ch/wp-content/uploads/2026/02/Screenshot-2026-02-13-112720.png
END:VEVENT
BEGIN:VEVENT
DTSTART;TZID=Europe/Zurich:20260313T190000
DTEND;TZID=Europe/Zurich:20260313T220000
DTSTAMP:20260421T142841
CREATED:20260213T102045Z
LAST-MODIFIED:20260302T062539Z
UID:3438-1773428400-1773439200@freiheitskalender.ch
SUMMARY:Die neue Grundrechtsinitiative Swiss Water Systems Weite
DESCRIPTION:Unsere verfassungsmässigen Grundrechte stehen unter Druck. Erfahren Sie aus erster Hand\, warum diese Initiative jetzt nötig ist-und wie Sie mithelfen können. \nEs sprechen Simon Kramer\, Andrea Seaman und Thomas Börlin
URL:https://freiheitskalender.ch/event/die-neue-grundrechtsinitiative-2/
LOCATION:10_St. Gallen (SG)
ATTACH;FMTTYPE=image/png:https://freiheitskalender.ch/wp-content/uploads/2026/02/Screenshot-2026-02-13-111449.png
END:VEVENT
BEGIN:VEVENT
DTSTART;TZID=Europe/Zurich:20260305T190000
DTEND;TZID=Europe/Zurich:20260305T220000
DTSTAMP:20260421T142841
CREATED:20260219T182727Z
LAST-MODIFIED:20260219T182727Z
UID:3534-1772737200-1772748000@freiheitskalender.ch
SUMMARY:Vortrag Andreas Thiel - Logik und Empirie
DESCRIPTION:Logik und Empirie\n\n\nDas Wort „empirisch“ bedeutet „einer Erfahrung gemäss“. Die empirische Wissenschaft ist eine Schule der Beobachtung. Empirie generiert kein Wissen\, sondern Erfahrung. Beobachtung ist wichtig\, aber den empirischen Beweis gibt es nicht. Es gibt nur den mathematischen Beweis und der ist nicht empirisch\, sondern logisch.\n\n\nDas Wort „logisch“ bedeutet „folgerichtigem Denken gemäss“. Die Logik ist die Schule des Denkens. Die Logik ist die Herrin und die Empirie die Dienerin. \n\n\nWann hat die Wissenschaft das Denken verlernt und damit die Dienerin zur Herrin gemacht?
URL:https://freiheitskalender.ch/event/vortrag-andreas-thiel-logik-und-empirie/
LOCATION:10_St. Gallen (SG)
CATEGORIES:Vortrag
ATTACH;FMTTYPE=image/jpeg:https://freiheitskalender.ch/wp-content/uploads/2026/02/Thiel-20260305.jpg
END:VEVENT
END:VCALENDAR