BEGIN:VCALENDAR
VERSION:2.0
PRODID:-//Freiheitskalender - ECPv6.15.20//NONSGML v1.0//EN
CALSCALE:GREGORIAN
METHOD:PUBLISH
X-WR-CALNAME:Freiheitskalender
X-ORIGINAL-URL:https://freiheitskalender.ch
X-WR-CALDESC:Veranstaltungen für Freiheitskalender
REFRESH-INTERVAL;VALUE=DURATION:PT1H
X-Robots-Tag:noindex
X-PUBLISHED-TTL:PT1H
BEGIN:VTIMEZONE
TZID:Europe/Zurich
BEGIN:DAYLIGHT
TZOFFSETFROM:+0100
TZOFFSETTO:+0200
TZNAME:CEST
DTSTART:20250330T010000
END:DAYLIGHT
BEGIN:STANDARD
TZOFFSETFROM:+0200
TZOFFSETTO:+0100
TZNAME:CET
DTSTART:20251026T010000
END:STANDARD
BEGIN:DAYLIGHT
TZOFFSETFROM:+0100
TZOFFSETTO:+0200
TZNAME:CEST
DTSTART:20260329T010000
END:DAYLIGHT
BEGIN:STANDARD
TZOFFSETFROM:+0200
TZOFFSETTO:+0100
TZNAME:CET
DTSTART:20261025T010000
END:STANDARD
BEGIN:DAYLIGHT
TZOFFSETFROM:+0100
TZOFFSETTO:+0200
TZNAME:CEST
DTSTART:20270328T010000
END:DAYLIGHT
BEGIN:STANDARD
TZOFFSETFROM:+0200
TZOFFSETTO:+0100
TZNAME:CET
DTSTART:20271031T010000
END:STANDARD
END:VTIMEZONE
BEGIN:VEVENT
DTSTART;TZID=Europe/Zurich:20260623T183000
DTEND;TZID=Europe/Zurich:20260623T220000
DTSTAMP:20260424T175645
CREATED:20260302T071145Z
LAST-MODIFIED:20260302T071145Z
UID:3686-1782239400-1782252000@freiheitskalender.ch
SUMMARY:Die neue Grundrechtsinitiative Rest. Bernerhof Burgdorf
DESCRIPTION:Unsere verfassungsmässigen Grundrechte stehen unter Druck. Erfahren Sie aus erster Hand\, warum diese Initiative jetzt nötig ist und wie Sie mithelfen können. \nEs sprechen Simon Kramer\, Andrea Seaman und Thomas Börlin
URL:https://freiheitskalender.ch/event/die-neue-grundrechtsinitiative-rest-bernerhof-burgdorf/
LOCATION:10_Bern (BE)
CATEGORIES:Event
END:VEVENT
BEGIN:VEVENT
DTSTART;TZID=Europe/Zurich:20260627T160000
DTEND;TZID=Europe/Zurich:20260627T213000
DTSTAMP:20260424T175645
CREATED:20260415T162804Z
LAST-MODIFIED:20260421T144941Z
UID:4140-1782576000-1782595800@freiheitskalender.ch
SUMMARY:Mitgliederversammlung FdV
DESCRIPTION:Alljährliche Mitgliederversammlung – Freunde der Verfassung\nLorzensaal in Cham\nSamstag\, 27. Juni 2026\nmit anschliessendem Abendessen und Theater \n\nDiese Veranstaltung ist ausschliesslich für Mitglieder der Freunde der Verfassung. Eine Anmeldung zur Teilnahme ist erforderlich. \nNoch kein Mitglied? Jetzt beitreten und Teil unserer Gemeinschaft werden! HIER \n\nAgenda\n15:00Türöffnung \n16:00 – 18:00Ordentliche Mitgliederversammlung 2026 \n18:00 – 19:00Pause / Apéro \n19:00 – 20:00Gemeinsames Abendessen \n20:00Theater\n„Der Richter und sein Bauer“ – lustiges Theaterstück von Thomas Brändle und Thomas Bühlmann. Spielt in einem Schweizer Gerichtssaal mit einem strengen\, klugen Richter und einem Bauern\, der sich dümmer stellt\, als er ist.
URL:https://freiheitskalender.ch/event/mitgliederversammlung-fdv-2026/
LOCATION:Lorzensaal Cham\, Dorfpl. 3\, Cham\, 6330\, Switzerland
CATEGORIES:Mitgliederversammlung/GV
ATTACH;FMTTYPE=image/png:https://freiheitskalender.ch/wp-content/uploads/2025/03/Screenshot-2025-03-05-131503.png
ORGANIZER;CN="Freunde der Verfassung":MAILTO:sekretariat@verfassungsfreunde.ch
END:VEVENT
BEGIN:VEVENT
DTSTART;TZID=Europe/Zurich:20260627T200000
DTEND;TZID=Europe/Zurich:20260627T220000
DTSTAMP:20260424T175645
CREATED:20260424T140840Z
LAST-MODIFIED:20260424T140840Z
UID:4257-1782590400-1782597600@freiheitskalender.ch
SUMMARY:Theater „Der Richter und sein Bauer“
DESCRIPTION:Lustiges Theaterstück von Thomas Brändle und Thomas Bühlmann.\nEin humorvolles Stück in einem Schweizer Gerichtssaal mit einem strengen\, klugen Richter und einem Bauern\, der sich dümmer stellt\, als er ist. \n\nDas Theater findet im Anschluss an die Mitgliederversammlung der Freunde der Verfassung statt.Für teilnehmende Mitglieder sind Abendessen und Theater kostenlos.Nichtmitglieder können Tickets erwerben und optional ein Abendessen dazubuchen. \n\n📍 Ort: Lorzensaal\, Cham (ZG)\n📅 Datum: Samstag\, 27. Juni 2026 \n🕖 Programm:\n19:00 Uhr – Abendessen (optional)\n20:00 Uhr – Theaterbeginn \n💰 Eintritt:\nCHF 25.– Theater ohne Essen\nCHF 55.– Theater mit Essen (exkl. Getränke) \n\n🎟 Tickets & Anmeldung:👉 Weiter unten auf dieser Seite
URL:https://freiheitskalender.ch/event/theater-der-richter-und-sein-bauer/
LOCATION:Lorzensaal Cham\, Dorfpl. 3\, Cham\, 6330\, Switzerland
CATEGORIES:Event,Theater,Unterhaltung
ATTACH;FMTTYPE=image/png:https://freiheitskalender.ch/wp-content/uploads/2026/04/Unbenannt7-scaled.png
ORGANIZER;CN="Freunde der Verfassung":MAILTO:sekretariat@verfassungsfreunde.ch
END:VEVENT
END:VCALENDAR