BEGIN:VCALENDAR
VERSION:2.0
PRODID:-//Freiheitskalender - ECPv6.15.20//NONSGML v1.0//EN
CALSCALE:GREGORIAN
METHOD:PUBLISH
X-WR-CALNAME:Freiheitskalender
X-ORIGINAL-URL:https://freiheitskalender.ch
X-WR-CALDESC:Veranstaltungen für Freiheitskalender
REFRESH-INTERVAL;VALUE=DURATION:PT1H
X-Robots-Tag:noindex
X-PUBLISHED-TTL:PT1H
BEGIN:VTIMEZONE
TZID:Europe/Zurich
BEGIN:DAYLIGHT
TZOFFSETFROM:+0100
TZOFFSETTO:+0200
TZNAME:CEST
DTSTART:20250330T010000
END:DAYLIGHT
BEGIN:STANDARD
TZOFFSETFROM:+0200
TZOFFSETTO:+0100
TZNAME:CET
DTSTART:20251026T010000
END:STANDARD
BEGIN:DAYLIGHT
TZOFFSETFROM:+0100
TZOFFSETTO:+0200
TZNAME:CEST
DTSTART:20260329T010000
END:DAYLIGHT
BEGIN:STANDARD
TZOFFSETFROM:+0200
TZOFFSETTO:+0100
TZNAME:CET
DTSTART:20261025T010000
END:STANDARD
BEGIN:DAYLIGHT
TZOFFSETFROM:+0100
TZOFFSETTO:+0200
TZNAME:CEST
DTSTART:20270328T010000
END:DAYLIGHT
BEGIN:STANDARD
TZOFFSETFROM:+0200
TZOFFSETTO:+0100
TZNAME:CET
DTSTART:20271031T010000
END:STANDARD
END:VTIMEZONE
BEGIN:VEVENT
DTSTART;TZID=Europe/Zurich:20260611T193000
DTEND;TZID=Europe/Zurich:20260611T210000
DTSTAMP:20260424T092009
CREATED:20260224T132815Z
LAST-MODIFIED:20260224T132815Z
UID:3566-1781206200-1781211600@freiheitskalender.ch
SUMMARY:Vortrag von Andreas Thiel - Was ist Kunst
DESCRIPTION:Was ist Kunst? – Die innere Erhabenheit \nDie Weisheit wurde in der Antike von der Philosophie erkannt\, von der Mathematik geprüft und durch die Kunst vermittelt. Heute\, da die Philosophie mangels Weisheit die Sinnfrage nicht mehr beantworten kann und die Wissenschaft mangels mathematischen Verständnisses nur noch auf Statistik beruht\, bleibt auch die Kunst inhaltsleer. Eine Rückbesinnung auf das Schöne\, das Gute und das Wahre.
URL:https://freiheitskalender.ch/event/vortrag-von-andreas-thiel-was-ist-kunst-2/
LOCATION:10_Luzern (LU)
CATEGORIES:Vortrag
ATTACH;FMTTYPE=image/jpeg:https://freiheitskalender.ch/wp-content/uploads/2026/02/05_Kunst11-6-26.jpg
END:VEVENT
BEGIN:VEVENT
DTSTART;TZID=Europe/Zurich:20260612T183000
DTEND;TZID=Europe/Zurich:20260612T220000
DTSTAMP:20260424T092009
CREATED:20260302T070646Z
LAST-MODIFIED:20260414T152443Z
UID:3674-1781289000-1781301600@freiheitskalender.ch
SUMMARY:Die neue Grundrechtsinitiative zu Gast bei der EDU im Kanton Thurgau
DESCRIPTION:Unsere verfassungsmässigen Grundrechte stehen unter Druck. Erfahren Sie aus erster Hand\, warum diese Initiative jetzt nötig ist und wie Sie mithelfen können. \nEs sprechen Simon Kramer\, Andrea Seaman und Thomas Börlin
URL:https://freiheitskalender.ch/event/die-neue-grundrechtsinitiative-10/
LOCATION:ZH
CATEGORIES:Event
END:VEVENT
BEGIN:VEVENT
DTSTART;TZID=Europe/Zurich:20260613T100000
DTEND;TZID=Europe/Zurich:20260613T123000
DTSTAMP:20260424T092010
CREATED:20260422T085324Z
LAST-MODIFIED:20260422T085652Z
UID:4225-1781344800-1781353800@freiheitskalender.ch
SUMMARY:BürgerfürBürger laden zum Thema Teilrevision des EPG – Referat und Diskussion mit Andrea Staubli\, ABFSchweiz
DESCRIPTION:Sowohl die drohende Impfpflicht als auch die Massnahmen des revidierten Epidemiengesetzes mit Bussen bis zu 100’000Franken durch die Kantone bewegen die Schweiz. Wir informieren und diskutieren in angenehmem Ambiente im Rössli Illnau mit der Fachfrau der ersten Stunde und Jursitin vom Aktionsbündnis freie Schweiz Andrea Staubli. Sei dabei!
URL:https://freiheitskalender.ch/event/buergerfuerbuerger-laden-zum-thema-teilrevision-des-epg-referat-und-diskussion-mit-andrea-staubli-abfschweiz/
LOCATION:Restaurant Rössli\, Kempttalstrasse 52\, Ill\, ZH\, 8308\, Switzerland
CATEGORIES:Bürger für Bürger
ATTACH;FMTTYPE=image/jpeg:https://freiheitskalender.ch/wp-content/uploads/2026/04/BfB-Logo-scaled.jpg
ORGANIZER;CN="Verein 'B%C3%BCrger f%C3%BCr B%C3%BCrger'":MAILTO:info@freie-meinung.ch
END:VEVENT
BEGIN:VEVENT
DTSTART;TZID=Europe/Zurich:20260614T120000
DTEND;TZID=Europe/Zurich:20260614T170000
DTSTAMP:20260424T092010
CREATED:20260414T153343Z
LAST-MODIFIED:20260414T153343Z
UID:4132-1781438400-1781456400@freiheitskalender.ch
SUMMARY:Sommerfest für Mitglieder Verfassungsbündnis
DESCRIPTION:Die Mitglieder des Verfassungsbündnis versammeln sich zum gemütlichen Sommerfest.
URL:https://freiheitskalender.ch/event/sommerfest-fuer-mitglieder-verfassungsbuendnis/
LOCATION:10_Zürich (ZH)
CATEGORIES:gemütliches Zusammensein
END:VEVENT
END:VCALENDAR