BEGIN:VCALENDAR
VERSION:2.0
PRODID:-//Freiheitskalender - ECPv6.15.20//NONSGML v1.0//EN
CALSCALE:GREGORIAN
METHOD:PUBLISH
X-WR-CALNAME:Freiheitskalender
X-ORIGINAL-URL:https://freiheitskalender.ch
X-WR-CALDESC:Veranstaltungen für Freiheitskalender
REFRESH-INTERVAL;VALUE=DURATION:PT1H
X-Robots-Tag:noindex
X-PUBLISHED-TTL:PT1H
BEGIN:VTIMEZONE
TZID:Europe/Zurich
BEGIN:DAYLIGHT
TZOFFSETFROM:+0100
TZOFFSETTO:+0200
TZNAME:CEST
DTSTART:20250330T010000
END:DAYLIGHT
BEGIN:STANDARD
TZOFFSETFROM:+0200
TZOFFSETTO:+0100
TZNAME:CET
DTSTART:20251026T010000
END:STANDARD
BEGIN:DAYLIGHT
TZOFFSETFROM:+0100
TZOFFSETTO:+0200
TZNAME:CEST
DTSTART:20260329T010000
END:DAYLIGHT
BEGIN:STANDARD
TZOFFSETFROM:+0200
TZOFFSETTO:+0100
TZNAME:CET
DTSTART:20261025T010000
END:STANDARD
BEGIN:DAYLIGHT
TZOFFSETFROM:+0100
TZOFFSETTO:+0200
TZNAME:CEST
DTSTART:20270328T010000
END:DAYLIGHT
BEGIN:STANDARD
TZOFFSETFROM:+0200
TZOFFSETTO:+0100
TZNAME:CET
DTSTART:20271031T010000
END:STANDARD
END:VTIMEZONE
BEGIN:VEVENT
DTSTART;TZID=Europe/Zurich:20260511T193000
DTEND;TZID=Europe/Zurich:20260511T210000
DTSTAMP:20260420T190019
CREATED:20260318T102705Z
LAST-MODIFIED:20260318T102705Z
UID:3861-1778527800-1778533200@freiheitskalender.ch
SUMMARY:Vortrag von Andreas Thiel - Was ist Humor
DESCRIPTION:Was ist Humor? – Betrachtungen über und unter der Gürtellinie \nHumor hat nichts mit Lachen zu tun\, sondern mit Lächeln. Zum Lachen wird man gezwungen. Lächeln muss man selber können. Eine Führung durch die vielfältige Waffenkammer des Humoristen.
URL:https://freiheitskalender.ch/event/vortrag-von-andreas-thiel-was-ist-humor-2/
LOCATION:01_Deutschschweiz
CATEGORIES:Vortrag
ATTACH;FMTTYPE=image/jpeg:https://freiheitskalender.ch/wp-content/uploads/2026/03/photo_2026-03-18_10-38-26.jpg
END:VEVENT
BEGIN:VEVENT
DTSTART;TZID=Europe/Zurich:20260513T190000
DTEND;TZID=Europe/Zurich:20260513T210000
DTSTAMP:20260420T190019
CREATED:20260410T132912Z
LAST-MODIFIED:20260410T134902Z
UID:3999-1778698800-1778706000@freiheitskalender.ch
SUMMARY:FdV Online-Treffen – erweitert für Mitglieder und Interessierte
DESCRIPTION:FdV Online-Treffen\n📅 Datum: 13. Mai 2026🕖 Uhrzeit: 19:00 Uhr💻 Ort: Online (Link wird nach Anmeldung zugestellt) \n\nEinmal pro Quartal öffnen wir unsere internen Treffen für Mitglieder und Interessierte. \nBeim FdV Online-Treffen erhältst du einen direkten Einblick in unsere Arbeit:Regioleiter\, Vorstandsmitglieder und Teammitglieder geben Einblick in laufende Projekte\, aktuelle Themen und stehen für deine Fragen zur Verfügung. \nDas Treffen bietet dir die Möglichkeit\, \n\nmehr über unsere Aktivitäten zu erfahren\nFragen zu stellen\nHintergründe zu verstehen\nund direkt mit uns ins Gespräch zu kommen\n\nDer Austausch findet in einer offenen und unkomplizierten Atmosphäre statt. \n\n👉 Anmeldung per E-Mail an: sekretariat@verfassungsfreunde.ch
URL:https://freiheitskalender.ch/event/fdv-online-treffen-erweitert-fuer-mitglieder-und-interessierte/
CATEGORIES:Begegnungen,gemütliches Zusammensein,Gespräche
ATTACH;FMTTYPE=image/png:https://freiheitskalender.ch/wp-content/uploads/2026/04/Bild_Onlinetreffen.png
ORGANIZER;CN="Freunde der Verfassung":MAILTO:sekretariat@verfassungsfreunde.ch
END:VEVENT
END:VCALENDAR