BEGIN:VCALENDAR
VERSION:2.0
PRODID:-//Freiheitskalender - ECPv6.15.20//NONSGML v1.0//EN
CALSCALE:GREGORIAN
METHOD:PUBLISH
X-WR-CALNAME:Freiheitskalender
X-ORIGINAL-URL:https://freiheitskalender.ch
X-WR-CALDESC:Veranstaltungen für Freiheitskalender
REFRESH-INTERVAL;VALUE=DURATION:PT1H
X-Robots-Tag:noindex
X-PUBLISHED-TTL:PT1H
BEGIN:VTIMEZONE
TZID:Europe/Zurich
BEGIN:DAYLIGHT
TZOFFSETFROM:+0100
TZOFFSETTO:+0200
TZNAME:CEST
DTSTART:20250330T010000
END:DAYLIGHT
BEGIN:STANDARD
TZOFFSETFROM:+0200
TZOFFSETTO:+0100
TZNAME:CET
DTSTART:20251026T010000
END:STANDARD
BEGIN:DAYLIGHT
TZOFFSETFROM:+0100
TZOFFSETTO:+0200
TZNAME:CEST
DTSTART:20260329T010000
END:DAYLIGHT
BEGIN:STANDARD
TZOFFSETFROM:+0200
TZOFFSETTO:+0100
TZNAME:CET
DTSTART:20261025T010000
END:STANDARD
BEGIN:DAYLIGHT
TZOFFSETFROM:+0100
TZOFFSETTO:+0200
TZNAME:CEST
DTSTART:20270328T010000
END:DAYLIGHT
BEGIN:STANDARD
TZOFFSETFROM:+0200
TZOFFSETTO:+0100
TZNAME:CET
DTSTART:20271031T010000
END:STANDARD
END:VTIMEZONE
BEGIN:VEVENT
DTSTART;TZID=Europe/Zurich:20260627T160000
DTEND;TZID=Europe/Zurich:20260627T213000
DTSTAMP:20260425T134326
CREATED:20260415T162804Z
LAST-MODIFIED:20260421T144941Z
UID:4140-1782576000-1782595800@freiheitskalender.ch
SUMMARY:Mitgliederversammlung FdV
DESCRIPTION:Alljährliche Mitgliederversammlung – Freunde der Verfassung\nLorzensaal in Cham\nSamstag\, 27. Juni 2026\nmit anschliessendem Abendessen und Theater \n\nDiese Veranstaltung ist ausschliesslich für Mitglieder der Freunde der Verfassung. Eine Anmeldung zur Teilnahme ist erforderlich. \nNoch kein Mitglied? Jetzt beitreten und Teil unserer Gemeinschaft werden! HIER \n\nAgenda\n15:00Türöffnung \n16:00 – 18:00Ordentliche Mitgliederversammlung 2026 \n18:00 – 19:00Pause / Apéro \n19:00 – 20:00Gemeinsames Abendessen \n20:00Theater\n„Der Richter und sein Bauer“ – lustiges Theaterstück von Thomas Brändle und Thomas Bühlmann. Spielt in einem Schweizer Gerichtssaal mit einem strengen\, klugen Richter und einem Bauern\, der sich dümmer stellt\, als er ist.
URL:https://freiheitskalender.ch/event/mitgliederversammlung-fdv-2026/
LOCATION:Lorzensaal Cham\, Dorfpl. 3\, Cham\, 6330\, Switzerland
CATEGORIES:Mitgliederversammlung/GV
ATTACH;FMTTYPE=image/png:https://freiheitskalender.ch/wp-content/uploads/2025/03/Screenshot-2025-03-05-131503.png
ORGANIZER;CN="Freunde der Verfassung":MAILTO:sekretariat@verfassungsfreunde.ch
END:VEVENT
END:VCALENDAR