BEGIN:VCALENDAR
VERSION:2.0
PRODID:-//Freiheitskalender - ECPv6.15.20//NONSGML v1.0//EN
CALSCALE:GREGORIAN
METHOD:PUBLISH
X-ORIGINAL-URL:https://freiheitskalender.ch
X-WR-CALDESC:Veranstaltungen für Freiheitskalender
REFRESH-INTERVAL;VALUE=DURATION:PT1H
X-Robots-Tag:noindex
X-PUBLISHED-TTL:PT1H
BEGIN:VTIMEZONE
TZID:Europe/Zurich
BEGIN:DAYLIGHT
TZOFFSETFROM:+0100
TZOFFSETTO:+0200
TZNAME:CEST
DTSTART:20250330T010000
END:DAYLIGHT
BEGIN:STANDARD
TZOFFSETFROM:+0200
TZOFFSETTO:+0100
TZNAME:CET
DTSTART:20251026T010000
END:STANDARD
BEGIN:DAYLIGHT
TZOFFSETFROM:+0100
TZOFFSETTO:+0200
TZNAME:CEST
DTSTART:20260329T010000
END:DAYLIGHT
BEGIN:STANDARD
TZOFFSETFROM:+0200
TZOFFSETTO:+0100
TZNAME:CET
DTSTART:20261025T010000
END:STANDARD
BEGIN:DAYLIGHT
TZOFFSETFROM:+0100
TZOFFSETTO:+0200
TZNAME:CEST
DTSTART:20270328T010000
END:DAYLIGHT
BEGIN:STANDARD
TZOFFSETFROM:+0200
TZOFFSETTO:+0100
TZNAME:CET
DTSTART:20271031T010000
END:STANDARD
END:VTIMEZONE
BEGIN:VEVENT
DTSTART;TZID=Europe/Zurich:20260329T180000
DTEND;TZID=Europe/Zurich:20260329T210000
DTSTAMP:20260421T191833
CREATED:20260213T091124Z
LAST-MODIFIED:20260213T091124Z
UID:3413-1774807200-1774818000@freiheitskalender.ch
SUMMARY:Die Welt ist krank – wie kann man da gesund sein? - Vortrag von Dr. Wolfgang Wodarg
DESCRIPTION:Miteinander – Füreinander\nVortrag mit Dr. Wolfgang Wodarg\nArgumente gegen die Herrschaft der Angst \nÜber Versuche\, uns unter dem Vorwand des Gesundheitsschutzes zu kontrollieren –und über Wege\, unsere Autonomie zu bewahren. \n„Die Welt ist krank – wie kann man da gesund sein?“ \n\nDatum: Sonntag\, 29. März 2026Zeit: 18:00–21:00 UhrOrt: URIG Vereinslokal\, 1. OGHohenbühlweg 4\, 7000 ChurReferent: Dr. Wolfgang Wodarg \n\nDr. Wolfgang Wodarg informiert seit Jahrzehnten über Missstände im Gesundheitswesen und setzt sich kritisch mit politischen sowie wirtschaftlichen Einflussnahmen auseinander. \nIn seinem Vortrag beleuchtet er aktuelle medizinische Entwicklungen\, gesellschaftliche Tendenzen und die Frage\, wie individuelle Selbstbestimmung in herausfordernden Zeiten gestärkt werden kann. \nAuf seine ruhige und direkte Art zeigt er Perspektiven auf und lädt zum gemeinsamen Nachdenken ein. \nSein Motto: „Gemeinsam begreifen\, um zu verändern.“ \n\nDer Anlass findet auf Spendenbasis statt. \nWeitere Informationen:www.wodarg.com \nAnmeldung erwünscht. \nWir freuen uns auf Sie. \nURIG ChurHohenbühlweg 47000 ChurTel: 081 511 55 18info@urig-chur.ch
URL:https://freiheitskalender.ch/event/die-welt-ist-krank-wie-kann-man-da-gesund-sein-vortrag-von-dr-wolfgang-wodarg/
LOCATION:URIG Chur Vereinslokal\, Hohenbühlweg 4\, Chur\, 7000
CATEGORIES:Vortrag
ATTACH;FMTTYPE=image/jpeg:https://freiheitskalender.ch/wp-content/uploads/2026/02/signal-2026-02-13-072948_002.jpeg
ORGANIZER;CN="URIG Chur":MAILTO:info@urig-chur.ch
END:VEVENT
BEGIN:VEVENT
DTSTART;TZID=Europe/Zurich:20260225T183000
DTEND;TZID=Europe/Zurich:20260225T210000
DTSTAMP:20260421T191833
CREATED:20260218T194153Z
LAST-MODIFIED:20260218T194153Z
UID:3513-1772044200-1772053200@freiheitskalender.ch
SUMMARY:Vortrag Andreas Thiel - Schule des Grauens
DESCRIPTION:Schule des Grauens – Wo Kinder das Denken verlernen \nPädagogik ist eine Kunst und keine Wissenschaft. Die Akademisierung der Pädagogik ist die Rache der Unbegabten. Seit unser Bildungswesen akademisiert wurde\, können pädagogisch Begabte nicht einmal mehr Lehrer werden.
URL:https://freiheitskalender.ch/event/vortrag-andreas-thiel-schule-des-grauens/
LOCATION:04_Graubünden
CATEGORIES:Vortrag
ATTACH;FMTTYPE=image/jpeg:https://freiheitskalender.ch/wp-content/uploads/2026/02/WhatsApp-Image-2026-02-18-at-16.15.10.jpeg
ORGANIZER;CN="URIG Chur":MAILTO:info@urig-chur.ch
END:VEVENT
END:VCALENDAR