BEGIN:VCALENDAR
VERSION:2.0
PRODID:-//Freiheitskalender - ECPv6.15.20//NONSGML v1.0//EN
CALSCALE:GREGORIAN
METHOD:PUBLISH
X-WR-CALNAME:Freiheitskalender
X-ORIGINAL-URL:https://freiheitskalender.ch/it
X-WR-CALDESC:Eventi per Freiheitskalender
REFRESH-INTERVAL;VALUE=DURATION:PT1H
X-Robots-Tag:noindex
X-PUBLISHED-TTL:PT1H
BEGIN:VTIMEZONE
TZID:Europe/Zurich
BEGIN:DAYLIGHT
TZOFFSETFROM:+0100
TZOFFSETTO:+0200
TZNAME:CEST
DTSTART:20250330T010000
END:DAYLIGHT
BEGIN:STANDARD
TZOFFSETFROM:+0200
TZOFFSETTO:+0100
TZNAME:CET
DTSTART:20251026T010000
END:STANDARD
BEGIN:DAYLIGHT
TZOFFSETFROM:+0100
TZOFFSETTO:+0200
TZNAME:CEST
DTSTART:20260329T010000
END:DAYLIGHT
BEGIN:STANDARD
TZOFFSETFROM:+0200
TZOFFSETTO:+0100
TZNAME:CET
DTSTART:20261025T010000
END:STANDARD
BEGIN:DAYLIGHT
TZOFFSETFROM:+0100
TZOFFSETTO:+0200
TZNAME:CEST
DTSTART:20270328T010000
END:DAYLIGHT
BEGIN:STANDARD
TZOFFSETFROM:+0200
TZOFFSETTO:+0100
TZNAME:CET
DTSTART:20271031T010000
END:STANDARD
END:VTIMEZONE
BEGIN:VEVENT
DTSTART;TZID=Europe/Zurich:20260421T193000
DTEND;TZID=Europe/Zurich:20260421T213000
DTSTAMP:20260421T064744
CREATED:20260415T194712Z
LAST-MODIFIED:20260415T194944Z
UID:4153-1776799800-1776807000@freiheitskalender.ch
SUMMARY:Buchvernissage "Horror aus dem Labor" mit Peter Eberhart
DESCRIPTION:Nachdem im Januar die erste Buchvernissage restlos ausgebucht war\, freuen wir uns sehr\, unsere zweite Vernissage mit Peter Eberhart und seinem brandaktuellen Buch „Horror aus dem Labor“ ankündigen zu dürfen – auch dieses Mal wieder mit der wunderbaren\, musikalischer Begleitung vom Berner Liedermacher Boris Bittel. \nPeter Eberhart – schweizweit bekannter Drogist aus dem Simmental und Gründungspräsident von Aufrecht Bern – präsentiert sein brandneues Buch «Horror aus dem Labor»\, ein Meisterwerk zur Aufarbeitung der Plandemie und eine hervorragende Standortbestimmung zur aktuellen Situation mit den Nanobots in unserer Nahrung. \n📅 Dienstag\, 21. April 2026 \n🕖 Türöffnung ab 18:30 Uhr\, Beginn um 19:30 Uhr \n🌍 Restaurant Bahnhof Da Luca\, Bahnhofstrasse 5\, 3550 Langnau im Emmental \n🎟 Eintritt frei – Kollekte – nur Barzahlung möglich \n🍽 Abendessen & Getränke auf eigene Konsumation \n⚠️ Limitierte\, kleine Anzahl Plätze – wir bitten um eure Anmeldung bis am 14. April 2026
URL:https://freiheitskalender.ch/it/event/buchvernissage-horror-aus-dem-labor-mit-peter-eberhart/
LOCATION:01_Deutschschweiz
CATEGORIES:Buchvernisage
ATTACH;FMTTYPE=image/webp:https://freiheitskalender.ch/wp-content/uploads/2026/04/WhatsApp-Image-2026-02-26-at-15.19.22.webp
END:VEVENT
END:VCALENDAR