BEGIN:VCALENDAR
VERSION:2.0
PRODID:-//Freiheitskalender - ECPv6.15.20//NONSGML v1.0//EN
CALSCALE:GREGORIAN
METHOD:PUBLISH
X-WR-CALNAME:Freiheitskalender
X-ORIGINAL-URL:https://freiheitskalender.ch/fr
X-WR-CALDESC:Évènements pour Freiheitskalender
REFRESH-INTERVAL;VALUE=DURATION:PT1H
X-Robots-Tag:noindex
X-PUBLISHED-TTL:PT1H
BEGIN:VTIMEZONE
TZID:Europe/Zurich
BEGIN:DAYLIGHT
TZOFFSETFROM:+0100
TZOFFSETTO:+0200
TZNAME:CEST
DTSTART:20240331T010000
END:DAYLIGHT
BEGIN:STANDARD
TZOFFSETFROM:+0200
TZOFFSETTO:+0100
TZNAME:CET
DTSTART:20241027T010000
END:STANDARD
BEGIN:DAYLIGHT
TZOFFSETFROM:+0100
TZOFFSETTO:+0200
TZNAME:CEST
DTSTART:20250330T010000
END:DAYLIGHT
BEGIN:STANDARD
TZOFFSETFROM:+0200
TZOFFSETTO:+0100
TZNAME:CET
DTSTART:20251026T010000
END:STANDARD
BEGIN:DAYLIGHT
TZOFFSETFROM:+0100
TZOFFSETTO:+0200
TZNAME:CEST
DTSTART:20260329T010000
END:DAYLIGHT
BEGIN:STANDARD
TZOFFSETFROM:+0200
TZOFFSETTO:+0100
TZNAME:CET
DTSTART:20261025T010000
END:STANDARD
END:VTIMEZONE
BEGIN:VEVENT
DTSTART;TZID=Europe/Zurich:20250308T100000
DTEND;TZID=Europe/Zurich:20250308T160000
DTSTAMP:20260421T025506
CREATED:20250218T053542Z
LAST-MODIFIED:20250218T054307Z
UID:514-1741428000-1741449600@freiheitskalender.ch
SUMMARY:Sammelaktion E-ID
DESCRIPTION:Astrid Krüger von Freunde der Verfassung sammelt Unterschriften gegen das E-ID Gesetz am Bärenplatz in Bern.
URL:https://freiheitskalender.ch/fr/event/sammelaktion-e-id-2025-03-08/
LOCATION:10_Bern (BE)
CATEGORIES:Sammelaktion
ATTACH;FMTTYPE=image/jpeg:https://freiheitskalender.ch/wp-content/uploads/2025/02/EID-Sammelaktion-Grafik_klein.jpg
ORGANIZER;CN="Freunde der Verfassung":MAILTO:sekretariat@verfassungsfreunde.ch
END:VEVENT
BEGIN:VEVENT
DTSTART;TZID=Europe/Zurich:20250308T180000
DTEND;TZID=Europe/Zurich:20250308T213000
DTSTAMP:20260421T025506
CREATED:20250303T100604Z
LAST-MODIFIED:20250303T100706Z
UID:778-1741456800-1741469400@freiheitskalender.ch
SUMMARY:Dr. Wolfgang Wodarg - Korruption ein globales Problem?
DESCRIPTION:Korruption ein globales Problem? \nInformation zur öffentlichen Gesundheit mit Dr. Wolfgang Wodarg. \n  \nFacharzt Pneumologie Hygiene und öffentliche Gesundheit. \nEhem. Parlamentarier SPD Deutscher Bundestag und Europarat. \nInitiator Untersuchungsausschuss Gesundheit bei H1N1. \n  \nBeginn 18:00 | Einlass 17:00 \nTeil 1 18:00 – 19:15\, Teil 2 20:00 – 21:30 \n  \nTickets inkl. Pausenverpflegung CHF 30.- \n  \nOrganisation: Urs & Andrea Schumacher \n 
URL:https://freiheitskalender.ch/fr/event/dr-wolfgang-wodarg-korruption-ein-globales-problem/
LOCATION:Seepark Sempbach\, Seestrasse 16\, Sempach\, 6204\, Switzerland
CATEGORIES:Vortrag
ATTACH;FMTTYPE=image/webp:https://freiheitskalender.ch/wp-content/uploads/2025/03/wodarg-allgemein.webp
END:VEVENT
END:VCALENDAR